BEGIN:VCALENDAR
VERSION:2.0
PRODID:-//KF Easterein - ECPv6.15.20//NONSGML v1.0//EN
CALSCALE:GREGORIAN
METHOD:PUBLISH
X-WR-CALNAME:KF Easterein
X-ORIGINAL-URL:https://kfeasterein.nl
X-WR-CALDESC:Evenementen voor KF Easterein
REFRESH-INTERVAL;VALUE=DURATION:PT1H
X-Robots-Tag:noindex
X-PUBLISHED-TTL:PT1H
BEGIN:VTIMEZONE
TZID:Europe/Amsterdam
BEGIN:DAYLIGHT
TZOFFSETFROM:+0100
TZOFFSETTO:+0200
TZNAME:CEST
DTSTART:20200329T010000
END:DAYLIGHT
BEGIN:STANDARD
TZOFFSETFROM:+0200
TZOFFSETTO:+0100
TZNAME:CET
DTSTART:20201025T010000
END:STANDARD
BEGIN:DAYLIGHT
TZOFFSETFROM:+0100
TZOFFSETTO:+0200
TZNAME:CEST
DTSTART:20210328T010000
END:DAYLIGHT
BEGIN:STANDARD
TZOFFSETFROM:+0200
TZOFFSETTO:+0100
TZNAME:CET
DTSTART:20211031T010000
END:STANDARD
BEGIN:DAYLIGHT
TZOFFSETFROM:+0100
TZOFFSETTO:+0200
TZNAME:CEST
DTSTART:20220327T010000
END:DAYLIGHT
BEGIN:STANDARD
TZOFFSETFROM:+0200
TZOFFSETTO:+0100
TZNAME:CET
DTSTART:20221030T010000
END:STANDARD
BEGIN:DAYLIGHT
TZOFFSETFROM:+0100
TZOFFSETTO:+0200
TZNAME:CEST
DTSTART:20230326T010000
END:DAYLIGHT
BEGIN:STANDARD
TZOFFSETFROM:+0200
TZOFFSETTO:+0100
TZNAME:CET
DTSTART:20231029T010000
END:STANDARD
BEGIN:DAYLIGHT
TZOFFSETFROM:+0100
TZOFFSETTO:+0200
TZNAME:CEST
DTSTART:20240331T010000
END:DAYLIGHT
BEGIN:STANDARD
TZOFFSETFROM:+0200
TZOFFSETTO:+0100
TZNAME:CET
DTSTART:20241027T010000
END:STANDARD
BEGIN:DAYLIGHT
TZOFFSETFROM:+0100
TZOFFSETTO:+0200
TZNAME:CEST
DTSTART:20250330T010000
END:DAYLIGHT
BEGIN:STANDARD
TZOFFSETFROM:+0200
TZOFFSETTO:+0100
TZNAME:CET
DTSTART:20251026T010000
END:STANDARD
END:VTIMEZONE
BEGIN:VEVENT
DTSTART;TZID=Europe/Amsterdam:20240320T200000
DTEND;TZID=Europe/Amsterdam:20240320T220000
DTSTAMP:20260424T212922
CREATED:20240320T154010Z
LAST-MODIFIED:20240320T154036Z
UID:5365-1710964800-1710972000@kfeasterein.nl
SUMMARY:Ledegearkomste KF Easterein
DESCRIPTION:Beste leden en alders fan jeugdleden\,\n\nHjirby bisto fan herte útnûge om de ledegearkomste fan KF Easterein by te wenjen.\n\nDe gearkomste sil plakfine op woansdei 20 maart 2024 om 20.00 oere.\n\nYn de mail fine jim de útnûging en de oantekens fan de ledegearkomste fan 2023.\n\n\nNammes Haadbestjoer KF Easterein
URL:https://kfeasterein.nl/aginda-item/ledegearkomste-kf-easterein/
LOCATION:Sportpark “De Skoalleseize”\, ’t Heechhiem 11\, Easterein\, Nederland
CATEGORIES:fergadering
END:VEVENT
BEGIN:VEVENT
DTSTART;TZID=Europe/Amsterdam:20210519T200000
DTEND;TZID=Europe/Amsterdam:20210519T220000
DTSTAMP:20260424T212922
CREATED:20210324T212240Z
LAST-MODIFIED:20210411T170803Z
UID:2587-1621454400-1621461600@kfeasterein.nl
SUMMARY:Ledegearkomste 2021
DESCRIPTION:
URL:https://kfeasterein.nl/aginda-item/ledengearkomste-2021/
CATEGORIES:fergadering
END:VEVENT
END:VCALENDAR